Package: GeoDiff Version: 1.17.0 Command: /home/biocbuild/bbs-3.23-bioc/R/bin/R CMD build --keep-empty-dirs --no-resave-data GeoDiff StartedAt: 2025-11-07 17:44:31 -0500 (Fri, 07 Nov 2025) EndedAt: 2025-11-07 17:48:33 -0500 (Fri, 07 Nov 2025) EllapsedTime: 242.3 seconds RetCode: 0 Status: OK PackageFile: GeoDiff_1.17.0.tar.gz PackageFileSize: 4.54 MiB