Package: GenomicInteractionNodes Version: 1.15.0 Command: /home/biocbuild/bbs-3.23-bioc/R/bin/R CMD INSTALL GenomicInteractionNodes StartedAt: 2025-11-19 15:42:46 -0500 (Wed, 19 Nov 2025) EndedAt: 2025-11-19 15:43:22 -0500 (Wed, 19 Nov 2025) EllapsedTime: 35.6 seconds RetCode: 0 Status: OK