Package: GenomicInteractionNodes Version: 1.15.0 Command: /home/biocbuild/bbs-3.23-bioc/R/bin/R CMD build --keep-empty-dirs --no-resave-data GenomicInteractionNodes StartedAt: 2025-11-19 17:50:05 -0500 (Wed, 19 Nov 2025) EndedAt: 2025-11-19 17:51:47 -0500 (Wed, 19 Nov 2025) EllapsedTime: 102.1 seconds RetCode: 0 Status: OK PackageFile: GenomicInteractionNodes_1.15.0.tar.gz PackageFileSize: 248.6 KiB