Package: GenomicDistributions Version: 1.19.0 Command: /home/biocbuild/bbs-3.23-bioc/R/bin/R CMD INSTALL GenomicDistributions StartedAt: 2025-11-07 15:15:48 -0500 (Fri, 07 Nov 2025) EndedAt: 2025-11-07 15:16:04 -0500 (Fri, 07 Nov 2025) EllapsedTime: 15.9 seconds RetCode: 0 Status: OK