Package: GenomicDistributions Version: 1.19.0 Command: /home/biocbuild/bbs-3.23-bioc/R/bin/R CMD build --keep-empty-dirs --no-resave-data GenomicDistributions StartedAt: 2025-11-07 17:42:55 -0500 (Fri, 07 Nov 2025) EndedAt: 2025-11-07 17:44:02 -0500 (Fri, 07 Nov 2025) EllapsedTime: 67.0 seconds RetCode: 0 Status: OK PackageFile: GenomicDistributions_1.19.0.tar.gz PackageFileSize: 6.237 MiB