Package: GenomicDistributions Version: 1.19.0 Maintainer: Kristyna Kupkova MaintainerEmail: kristynakupkova at gmail.com git_url: https://git.bioconductor.org/packages/GenomicDistributions git_branch: devel git_last_commit: eca5b00 git_last_commit_date: 2025-10-29 11:05:22 -0500 (Wed, 29 Oct 2025)