Package: GenomicDataCommons Version: 1.35.1 Command: /home/biocbuild/bbs-3.23-bioc/R/bin/R CMD INSTALL GenomicDataCommons StartedAt: 2025-11-07 15:17:03 -0500 (Fri, 07 Nov 2025) EndedAt: 2025-11-07 15:17:13 -0500 (Fri, 07 Nov 2025) EllapsedTime: 10.0 seconds RetCode: 0 Status: OK