Package: GenomicDataCommons Version: 1.35.1 Command: /home/biocbuild/bbs-3.23-bioc/R/bin/R CMD build --keep-empty-dirs --no-resave-data GenomicDataCommons StartedAt: 2025-11-07 17:42:53 -0500 (Fri, 07 Nov 2025) EndedAt: 2025-11-07 17:44:27 -0500 (Fri, 07 Nov 2025) EllapsedTime: 93.1 seconds RetCode: 0 Status: OK PackageFile: GenomicDataCommons_1.35.1.tar.gz PackageFileSize: 2.66 MiB