Package: GenomicDataCommons Version: 1.35.1 Maintainer: Sean Davis MaintainerEmail: seandavi at gmail.com git_url: https://git.bioconductor.org/packages/GenomicDataCommons git_branch: devel git_last_commit: 06edbb7 git_last_commit_date: 2025-11-07 11:02:31 -0500 (Fri, 07 Nov 2025)