Package: GenomicAlignments Version: 1.47.0 Command: /home/biocbuild/bbs-3.23-bioc/R/bin/R CMD INSTALL GenomicAlignments StartedAt: 2025-11-09 15:24:39 -0500 (Sun, 09 Nov 2025) EndedAt: 2025-11-09 15:25:14 -0500 (Sun, 09 Nov 2025) EllapsedTime: 34.0 seconds RetCode: 0 Status: OK