Package: GenomicAlignments Version: 1.47.0 Command: /home/biocbuild/bbs-3.23-bioc/R/bin/R CMD build --keep-empty-dirs --no-resave-data GenomicAlignments StartedAt: 2025-11-09 17:41:45 -0500 (Sun, 09 Nov 2025) EndedAt: 2025-11-09 17:43:19 -0500 (Sun, 09 Nov 2025) EllapsedTime: 94.1 seconds RetCode: 0 Status: OK PackageFile: GenomicAlignments_1.47.0.tar.gz PackageFileSize: 2.153 MiB