Package: GenProSeq Version: 1.15.0 Command: /home/biocbuild/bbs-3.23-bioc/R/bin/R CMD INSTALL GenProSeq StartedAt: 2025-11-07 15:12:01 -0500 (Fri, 07 Nov 2025) EndedAt: 2025-11-07 15:12:11 -0500 (Fri, 07 Nov 2025) EllapsedTime: 10.4 seconds RetCode: 0 Status: OK