Package: GenProSeq Version: 1.15.0 Command: /home/biocbuild/bbs-3.23-bioc/R/bin/R CMD build --keep-empty-dirs --no-resave-data GenProSeq StartedAt: 2025-11-07 17:44:27 -0500 (Fri, 07 Nov 2025) EndedAt: 2025-11-07 17:44:49 -0500 (Fri, 07 Nov 2025) EllapsedTime: 22.0 seconds RetCode: 0 Status: OK PackageFile: GenProSeq_1.15.0.tar.gz PackageFileSize: 1.115 MiB