Package: GenProSeq Version: 1.15.0 Maintainer: Dongmin Jung MaintainerEmail: dmdmjung at gmail.com git_url: https://git.bioconductor.org/packages/GenProSeq git_branch: devel git_last_commit: ea2d31c git_last_commit_date: 2025-10-29 11:15:49 -0500 (Wed, 29 Oct 2025)