Package: GUIDEseq Version: 1.41.0 Command: /home/biocbuild/bbs-3.23-bioc/R/bin/R CMD INSTALL GUIDEseq StartedAt: 2025-11-25 15:54:13 -0500 (Tue, 25 Nov 2025) EndedAt: 2025-11-25 15:55:07 -0500 (Tue, 25 Nov 2025) EllapsedTime: 54.3 seconds RetCode: 0 Status: OK