Package: GUIDEseq Version: 1.41.0 Command: /home/biocbuild/bbs-3.23-bioc/R/bin/R CMD build --keep-empty-dirs --no-resave-data GUIDEseq StartedAt: 2025-11-25 18:02:15 -0500 (Tue, 25 Nov 2025) EndedAt: 2025-11-25 18:03:58 -0500 (Tue, 25 Nov 2025) EllapsedTime: 102.1 seconds RetCode: 0 Status: OK PackageFile: GUIDEseq_1.41.0.tar.gz PackageFileSize: 5.869 MiB