Package: GNET2 Version: 1.27.0 Maintainer: Chen Chen MaintainerEmail: ccm3x at mail.missouri.edu git_url: https://git.bioconductor.org/packages/GNET2 git_branch: devel git_last_commit: 2926e7b git_last_commit_date: 2025-10-29 10:51:02 -0500 (Wed, 29 Oct 2025)