Package: GEOquery Version: 2.79.0 Command: /home/biocbuild/bbs-3.23-bioc/R/bin/R CMD INSTALL GEOquery StartedAt: 2025-11-14 15:33:59 -0500 (Fri, 14 Nov 2025) EndedAt: 2025-11-14 15:34:24 -0500 (Fri, 14 Nov 2025) EllapsedTime: 24.4 seconds RetCode: 0 Status: OK