Package: GEOquery Version: 2.79.0 Maintainer: Sean Davis MaintainerEmail: seandavi at gmail.com git_url: https://git.bioconductor.org/packages/GEOquery git_branch: devel git_last_commit: ccaa9cd git_last_commit_date: 2025-11-24 17:27:25 -0500 (Mon, 24 Nov 2025)