Package: GDSArray Version: 1.31.0 Command: /home/biocbuild/bbs-3.23-bioc/R/bin/R CMD INSTALL GDSArray StartedAt: 2025-11-09 15:24:16 -0500 (Sun, 09 Nov 2025) EndedAt: 2025-11-09 15:24:33 -0500 (Sun, 09 Nov 2025) EllapsedTime: 17.0 seconds RetCode: 0 Status: OK