Package: FuseSOM Version: 1.13.0 Command: /home/biocbuild/bbs-3.23-bioc/R/bin/R CMD INSTALL FuseSOM StartedAt: 2025-11-17 15:18:01 -0500 (Mon, 17 Nov 2025) EndedAt: 2025-11-17 15:18:27 -0500 (Mon, 17 Nov 2025) EllapsedTime: 26.1 seconds RetCode: 0 Status: OK