Package: FlowSOM Version: 2.19.0 Maintainer: Sofie Van Gassen MaintainerEmail: sofie.vangassen at ugent.be git_url: https://git.bioconductor.org/packages/FlowSOM git_branch: devel git_last_commit: 3c00c1d git_last_commit_date: 2025-10-29 10:23:19 -0500 (Wed, 29 Oct 2025)