Package: FitHiC Version: 1.37.0 Maintainer: Ruyu Tan MaintainerEmail: rut003 at ucsd.edu git_url: https://git.bioconductor.org/packages/FitHiC git_branch: devel git_last_commit: 4a22ef6 git_last_commit_date: 2025-10-29 10:34:32 -0500 (Wed, 29 Oct 2025)