Package: FastqCleaner Version: 1.29.0 Command: /home/biocbuild/bbs-3.23-bioc/R/bin/R CMD INSTALL FastqCleaner StartedAt: 2025-11-21 15:52:02 -0500 (Fri, 21 Nov 2025) EndedAt: 2025-11-21 15:52:49 -0500 (Fri, 21 Nov 2025) EllapsedTime: 46.4 seconds RetCode: 0 Status: OK