Package: FastqCleaner Version: 1.29.0 Command: /home/biocbuild/bbs-3.23-bioc/R/bin/R CMD build --keep-empty-dirs --no-resave-data FastqCleaner StartedAt: 2025-11-21 17:34:59 -0500 (Fri, 21 Nov 2025) EndedAt: 2025-11-21 17:36:18 -0500 (Fri, 21 Nov 2025) EllapsedTime: 79.1 seconds RetCode: 0 Status: OK PackageFile: FastqCleaner_1.29.0.tar.gz PackageFileSize: 4.318 MiB