Package: ExpressionAtlas Version: 2.3.0 Maintainer: Anil Thanki MaintainerEmail: anilthanki at ebi.ac.uk git_url: https://git.bioconductor.org/packages/ExpressionAtlas git_branch: devel git_last_commit: a94288f git_last_commit_date: 2025-10-29 10:30:04 -0500 (Wed, 29 Oct 2025)