Package: ExploreModelMatrix Version: 1.23.0 Command: /home/biocbuild/bbs-3.23-bioc/R/bin/R CMD INSTALL ExploreModelMatrix StartedAt: 2025-11-07 15:13:02 -0500 (Fri, 07 Nov 2025) EndedAt: 2025-11-07 15:13:11 -0500 (Fri, 07 Nov 2025) EllapsedTime: 9.1 seconds RetCode: 0 Status: OK