Package: ExploreModelMatrix Version: 1.23.0 Maintainer: Charlotte Soneson MaintainerEmail: charlottesoneson at gmail.com git_url: https://git.bioconductor.org/packages/ExploreModelMatrix git_branch: devel git_last_commit: e5a29c3 git_last_commit_date: 2025-10-29 10:58:12 -0500 (Wed, 29 Oct 2025)