Package: ExCluster Version: 1.29.0 Command: /home/biocbuild/bbs-3.23-bioc/R/bin/R CMD INSTALL ExCluster StartedAt: 2025-11-11 15:30:35 -0500 (Tue, 11 Nov 2025) EndedAt: 2025-11-11 15:31:05 -0500 (Tue, 11 Nov 2025) EllapsedTime: 29.6 seconds RetCode: 0 Status: OK