Package: EventPointer Version: 3.19.0 Command: /home/biocbuild/bbs-3.23-bioc/R/bin/R CMD INSTALL EventPointer StartedAt: 2025-11-07 16:00:13 -0500 (Fri, 07 Nov 2025) EndedAt: 2025-11-07 16:00:27 -0500 (Fri, 07 Nov 2025) EllapsedTime: 14.2 seconds RetCode: 1 Status: ERROR