Package: EventPointer Version: 3.19.0 Command: /home/biocbuild/bbs-3.23-bioc/R/bin/R CMD build --keep-empty-dirs --no-resave-data EventPointer StartedAt: 2025-11-07 17:30:53 -0500 (Fri, 07 Nov 2025) EndedAt: 2025-11-07 17:31:07 -0500 (Fri, 07 Nov 2025) EllapsedTime: 14.0 seconds RetCode: 1 Status: ERROR PackageFile: None PackageFileSize: NA