Package: EventPointer Version: 3.19.0 Maintainer: Juan A. Ferrer-Bonsoms MaintainerEmail: jafhernandez at tecnun.es git_url: https://git.bioconductor.org/packages/EventPointer git_branch: devel git_last_commit: ab73f34 git_last_commit_date: 2025-10-29 10:37:08 -0500 (Wed, 29 Oct 2025)