Package: EasyCellType Version: 1.13.0 Maintainer: Ruoxing Li MaintainerEmail: ruoxingli at outlook.com git_url: https://git.bioconductor.org/packages/EasyCellType git_branch: devel git_last_commit: a923d4a git_last_commit_date: 2025-10-29 11:18:20 -0500 (Wed, 29 Oct 2025)