Package: EDIRquery Version: 1.11.0 Maintainer: Laura D.T. Vo Ngoc MaintainerEmail: doan.vongoc at vub.be git_url: https://git.bioconductor.org/packages/EDIRquery git_branch: devel git_last_commit: be464df git_last_commit_date: 2025-10-29 11:22:37 -0500 (Wed, 29 Oct 2025)