Package: EBarrays Version: 2.75.0 Maintainer: Ming Yuan MaintainerEmail: myuan at isye.gatech.edu git_url: https://git.bioconductor.org/packages/EBarrays git_branch: devel git_last_commit: 98d9bf3 git_last_commit_date: 2025-10-29 09:54:31 -0500 (Wed, 29 Oct 2025)