Package: DropletUtils Version: 1.31.0 Command: /home/biocbuild/bbs-3.23-bioc/R/bin/R CMD build --keep-empty-dirs --no-resave-data DropletUtils StartedAt: 2025-11-13 17:23:12 -0500 (Thu, 13 Nov 2025) EndedAt: 2025-11-13 17:24:57 -0500 (Thu, 13 Nov 2025) EllapsedTime: 105.1 seconds RetCode: 0 Status: OK PackageFile: DropletUtils_1.31.0.tar.gz PackageFileSize: 592.3 KiB