Package: DriverNet Version: 1.51.0 Command: /home/biocbuild/bbs-3.23-bioc/R/bin/R CMD INSTALL DriverNet StartedAt: 2025-11-13 15:04:10 -0500 (Thu, 13 Nov 2025) EndedAt: 2025-11-13 15:04:28 -0500 (Thu, 13 Nov 2025) EllapsedTime: 18.6 seconds RetCode: 0 Status: OK