Package: DiffLogo Version: 2.35.0 Command: /home/biocbuild/bbs-3.23-bioc/R/bin/R CMD INSTALL DiffLogo StartedAt: 2025-11-07 15:03:14 -0500 (Fri, 07 Nov 2025) EndedAt: 2025-11-07 15:03:32 -0500 (Fri, 07 Nov 2025) EllapsedTime: 17.9 seconds RetCode: 0 Status: OK