Package: DiffLogo Version: 2.35.0 Command: /home/biocbuild/bbs-3.23-bioc/R/bin/R CMD build --keep-empty-dirs --no-resave-data DiffLogo StartedAt: 2025-11-07 17:15:11 -0500 (Fri, 07 Nov 2025) EndedAt: 2025-11-07 17:15:54 -0500 (Fri, 07 Nov 2025) EllapsedTime: 43.0 seconds RetCode: 0 Status: OK PackageFile: DiffLogo_2.35.0.tar.gz PackageFileSize: 919.7 KiB