Package: DiffLogo Version: 2.35.0 Maintainer: Hendrik Treutler MaintainerEmail: hendrik.treutler at gmail.com git_url: https://git.bioconductor.org/packages/DiffLogo git_branch: devel git_last_commit: 933892e git_last_commit_date: 2025-10-29 10:27:48 -0500 (Wed, 29 Oct 2025)