Package: DiffBind Version: 3.21.0 Command: /home/biocbuild/bbs-3.23-bioc/R/bin/R CMD INSTALL DiffBind StartedAt: 2025-11-09 15:53:17 -0500 (Sun, 09 Nov 2025) EndedAt: 2025-11-09 15:54:30 -0500 (Sun, 09 Nov 2025) EllapsedTime: 72.5 seconds RetCode: 0 Status: OK