Package: DiffBind Version: 3.21.0 Command: /home/biocbuild/bbs-3.23-bioc/R/bin/R CMD build --keep-empty-dirs --no-resave-data DiffBind StartedAt: 2025-11-09 17:13:58 -0500 (Sun, 09 Nov 2025) EndedAt: 2025-11-09 17:17:28 -0500 (Sun, 09 Nov 2025) EllapsedTime: 210.2 seconds RetCode: 0 Status: OK PackageFile: DiffBind_3.21.0.tar.gz PackageFileSize: 6.483 MiB