Package: DiffBind Version: 3.21.0 Maintainer: Rory Stark MaintainerEmail: bioconductor at starkhome.com git_url: https://git.bioconductor.org/packages/DiffBind git_branch: devel git_last_commit: f329968 git_last_commit_date: 2025-10-29 10:08:58 -0500 (Wed, 29 Oct 2025)