Package: DelayedRandomArray Version: 1.19.0 Maintainer: Aaron Lun MaintainerEmail: infinite.monkeys.with.keyboards at gmail.com git_url: https://git.bioconductor.org/packages/DelayedRandomArray git_branch: devel git_last_commit: 206ccc1 git_last_commit_date: 2025-10-29 11:08:35 -0500 (Wed, 29 Oct 2025)