Package: DelayedMatrixStats Version: 1.33.0 Maintainer: Peter Hickey MaintainerEmail: peter.hickey at gmail.com git_url: https://git.bioconductor.org/packages/DelayedMatrixStats git_branch: devel git_last_commit: ec9ae22 git_last_commit_date: 2025-10-29 10:41:36 -0500 (Wed, 29 Oct 2025)