Package: DelayedDataFrame Version: 1.27.0 Maintainer: Qian Liu MaintainerEmail: Qian.Liu at roswellpark.org git_url: https://git.bioconductor.org/packages/DelayedDataFrame git_branch: devel git_last_commit: 7dcd028 git_last_commit_date: 2025-10-29 10:49:14 -0500 (Wed, 29 Oct 2025)