Package: DelayedArray Version: 0.37.0 Command: _R_CHECK_CODETOOLS_PROFILE_="suppressFundefMismatch=TRUE" /home/biocbuild/bbs-3.23-bioc/R/bin/R CMD check --install=check:DelayedArray.install-out.txt --library=/home/biocbuild/bbs-3.23-bioc/R/site-library --timings DelayedArray_0.37.0.tar.gz StartedAt: 2025-11-24 22:50:46 -0500 (Mon, 24 Nov 2025) EndedAt: 2025-11-24 23:16:02 -0500 (Mon, 24 Nov 2025) EllapsedTime: 1516.2 seconds RetCode: 0 Status: WARNINGS CheckDir: DelayedArray.Rcheck Warnings: 1