Package: DelayedArray Version: 0.37.0 Maintainer: Hervé Pagès MaintainerEmail: hpages.on.github at gmail.com git_url: https://git.bioconductor.org/packages/DelayedArray git_branch: devel git_last_commit: a1ebb83 git_last_commit_date: 2025-10-29 14:49:13 -0500 (Wed, 29 Oct 2025)