Package: DeepPINCS Version: 1.19.0 Maintainer: Dongmin Jung MaintainerEmail: dmdmjung at gmail.com git_url: https://git.bioconductor.org/packages/DeepPINCS git_branch: devel git_last_commit: bdbf3fc git_last_commit_date: 2025-10-29 11:08:55 -0500 (Wed, 29 Oct 2025)