Package: DRIMSeq Version: 1.39.0 Maintainer: Malgorzata Nowicka MaintainerEmail: gosia.nowicka.uzh at gmail.com git_url: https://git.bioconductor.org/packages/DRIMSeq git_branch: devel git_last_commit: 9076908 git_last_commit_date: 2025-10-29 10:30:52 -0500 (Wed, 29 Oct 2025)